BEGIN:VCALENDAR
VERSION:2.0
PRODID:-//The Nevada Opioid Center of Excellence (NOCE) - ECPv6.15.20//NONSGML v1.0//EN
CALSCALE:GREGORIAN
METHOD:PUBLISH
X-WR-CALNAME:The Nevada Opioid Center of Excellence (NOCE)
X-ORIGINAL-URL:https://nvopioidcoe.org
X-WR-CALDESC:Events for The Nevada Opioid Center of Excellence (NOCE)
REFRESH-INTERVAL;VALUE=DURATION:PT1H
X-Robots-Tag:noindex
X-PUBLISHED-TTL:PT1H
BEGIN:VTIMEZONE
TZID:America/Los_Angeles
BEGIN:DAYLIGHT
TZOFFSETFROM:-0800
TZOFFSETTO:-0700
TZNAME:PDT
DTSTART:20250309T100000
END:DAYLIGHT
BEGIN:STANDARD
TZOFFSETFROM:-0700
TZOFFSETTO:-0800
TZNAME:PST
DTSTART:20251102T090000
END:STANDARD
BEGIN:DAYLIGHT
TZOFFSETFROM:-0800
TZOFFSETTO:-0700
TZNAME:PDT
DTSTART:20260308T100000
END:DAYLIGHT
BEGIN:STANDARD
TZOFFSETFROM:-0700
TZOFFSETTO:-0800
TZNAME:PST
DTSTART:20261101T090000
END:STANDARD
BEGIN:DAYLIGHT
TZOFFSETFROM:-0800
TZOFFSETTO:-0700
TZNAME:PDT
DTSTART:20270314T100000
END:DAYLIGHT
BEGIN:STANDARD
TZOFFSETFROM:-0700
TZOFFSETTO:-0800
TZNAME:PST
DTSTART:20271107T090000
END:STANDARD
END:VTIMEZONE
BEGIN:VEVENT
DTSTART;VALUE=DATE:20260423
DTEND;VALUE=DATE:20260425
DTSTAMP:20260424T015601
CREATED:20260318T222000Z
LAST-MODIFIED:20260318T222311Z
UID:22105-1776902400-1777075199@nvopioidcoe.org
SUMMARY:Artificial Intelligence (AI) in TeleBehavioral Health: Promise. Practice. Responsibility.
DESCRIPTION:The TeleBehavioral Health Summit (TeleBH Summit) is a two-day accredited virtual conference focused on the growing role of artificial intelligence and digital innovation in behavioral health care. The Summit is offered at no cost. \nBuilding on the Behavioral Health Institute’s TeleBehavioral Health Training Series\, the TeleBH Summit brings together national experts\, clinicians\, policymakers\, and thought leaders to examine how AI is shaping behavioral health practice today and how providers can engage with these tools safely\, ethically\, and effectively. The Summit emphasizes practical\, frontline-focused education that supports clinical judgment\, patient safety\, equity\, and regulatory compliance in an increasingly technology-enabled care environment. \nOver two days\, participants will gain a foundational understanding of AI concepts\, exploring real-world clinical applications and risks\, and developing skills for responsible integration into everyday workflows. Sessions address clinical use cases\, legal and ethical considerations\, patient communication\, policy and regulatory trends\, and strategies for sustaining high-quality\, person-centered care. \nThe TeleBH Summit is designed for anyone providing\, supervising\, or leading behavioral health services\, including clinicians\, peer professionals\, administrators\, and system leaders\, who want to better understand AI’s impact on mental health and substance use care and their role in shaping its responsible use. \nDATES & TIMES:\nThursday\, April 23\, 2026 | 9:30 AM – 3:30 PM (PDT)\nFriday\, April 24\, 2026 | 10:00 AM – 3:45 PM (PDT) \nLOCATION & REGISTRATION: Virtual Conference Registration\nCOST: Free to attend \nCONTINUING EDUCATION:\nCredit Offered: AMA PRA Category 1 Credit™; Nursing contact hours; Interprofessional Continuing Education (IPCE). Full accreditation information can be found on the Continuing Education & Accreditation page.  \nDOWNLOAD EVENT FLYER \nClick here to download the PDF event flyer: TeleBehavioral Health Summit flyer FINAL
URL:https://nvopioidcoe.org/event/artificial-intelligence-ai-in-telebehavioral-health-promise-practice-responsibility/
LOCATION:Virtual Event
END:VEVENT
END:VCALENDAR