BEGIN:VCALENDAR
VERSION:2.0
PRODID:-//The Nevada Opioid Center of Excellence (NOCE) - ECPv6.15.20//NONSGML v1.0//EN
CALSCALE:GREGORIAN
METHOD:PUBLISH
X-WR-CALNAME:The Nevada Opioid Center of Excellence (NOCE)
X-ORIGINAL-URL:https://nvopioidcoe.org
X-WR-CALDESC:Events for The Nevada Opioid Center of Excellence (NOCE)
REFRESH-INTERVAL;VALUE=DURATION:PT1H
X-Robots-Tag:noindex
X-PUBLISHED-TTL:PT1H
BEGIN:VTIMEZONE
TZID:America/Los_Angeles
BEGIN:DAYLIGHT
TZOFFSETFROM:-0800
TZOFFSETTO:-0700
TZNAME:PDT
DTSTART:20240310T100000
END:DAYLIGHT
BEGIN:STANDARD
TZOFFSETFROM:-0700
TZOFFSETTO:-0800
TZNAME:PST
DTSTART:20241103T090000
END:STANDARD
BEGIN:DAYLIGHT
TZOFFSETFROM:-0800
TZOFFSETTO:-0700
TZNAME:PDT
DTSTART:20250309T100000
END:DAYLIGHT
BEGIN:STANDARD
TZOFFSETFROM:-0700
TZOFFSETTO:-0800
TZNAME:PST
DTSTART:20251102T090000
END:STANDARD
BEGIN:DAYLIGHT
TZOFFSETFROM:-0800
TZOFFSETTO:-0700
TZNAME:PDT
DTSTART:20260308T100000
END:DAYLIGHT
BEGIN:STANDARD
TZOFFSETFROM:-0700
TZOFFSETTO:-0800
TZNAME:PST
DTSTART:20261101T090000
END:STANDARD
END:VTIMEZONE
BEGIN:VEVENT
DTSTART;TZID=America/Los_Angeles:20250418T110000
DTEND;TZID=America/Los_Angeles:20250418T123000
DTSTAMP:20260425T083538
CREATED:20250312T195129Z
LAST-MODIFIED:20250324T174356Z
UID:18093-1744974000-1744979400@nvopioidcoe.org
SUMMARY:Introduction to Resiliency-Informed Substance Use Prevention\, a Fireside Chat with Cammie Wolf Rice CEO & Founder of CWC Alliance and Author of The Flight
DESCRIPTION:Learning Objectives: \nBy the end of the session\, participants will be able to: \n\nOutline the current state of the opioid crisis\, and how it’s changed over time presenting unique challenges and opportunities.\nRecognize the need for substance use prevention and resilience.\nHow a program with a mixed methods approach is changing how we view substance use prevention.\nDemonstrate how stories of loss can mobilize communities to make an impact.\n\nPresented by: Fabricia Prado\, LCSW and Cammie Wolf Rice \nCammie Wolf Rice is a renowned author\, activist\, and speaker dedicated to ending the Opioid Epidemic. After the tragic loss of her son Christopher in 2016\, Cammie turned her pain into purpose by founding CWC Alliance\, making it her mission to raise awareness about the opioid epidemic and alternative pain management strategies. Cammie is the author of “The Flight: My Opioid Journey\,” a memoir detailing her personal and transformative journey through the opioid crisis\, a testament to her resilience and commitment to advocacy. \nFabricia Prado is a trilingual (Portuguese/Spanish/English) Licensed Clinical Social Worker (LCSW) in Georgia with a master’s degree in social work from Kennesaw State University and bachelor’s and master’s degrees in psychology from Pontifical Catholic University of Goiás\, Brazil. A Certified Child and Adolescent Trauma Professional (CATP) and ACE Interface Master Trainer through the National Hispanic and Latino PTTC\, Fabricia works to raise awareness of Adverse Childhood Experiences (ACEs) and their public health impact using evidence-based strategies to build resilience. She has received intensive training in trauma-focused cognitive behavioral therapy\, EMDR\, Mindfulness-Based Stress Reduction\, and other trauma-sensitive approaches. \nContinuing Education Units: 1.5 CEUs \nThis training is approved for continuing education by the boards listed here. \nFunding for this activity was made possible in whole or in part by the Nevada Department of Health and Human Services (DHHS) Director’s Office through the Fund for a Resilient Nevada\, established in Nevada Revised Statutes 433.712 through 433.744. The opinions\, findings\, conclusions\, and recommendations expressed in our courses are those of the author(s) and do not necessarily represent the official views of the Nevada Opioid Center of Excellence or its funders.
URL:https://nvopioidcoe.org/event/introduction-to-resiliency-informed-substance-use-prevention-a-fireside-chat-with-cammie-wolf-rice-ceo-founder-of-cwc-alliance-and-author-of-the-flight/
LOCATION:Zoom Meeting
ATTACH;FMTTYPE=image/jpeg:https://nvopioidcoe.org/wp-content/uploads/2025/03/GettyImages-1388100340.jpg
ORGANIZER;CN="Nevada Opioid Center of Excellence":MAILTO:noce@casat.org
END:VEVENT
END:VCALENDAR